BEGIN:VCALENDAR
VERSION:2.0
PRODID:-//École maternelle et primaire - ECPv5.9.1//NONSGML v1.0//EN
CALSCALE:GREGORIAN
METHOD:PUBLISH
X-WR-CALNAME:École maternelle et primaire
X-ORIGINAL-URL:http://burnotrecole.be
X-WR-CALDESC:évènements pour École maternelle et primaire
BEGIN:VTIMEZONE
TZID:Europe/Brussels
BEGIN:DAYLIGHT
TZOFFSETFROM:+0100
TZOFFSETTO:+0200
TZNAME:CEST
DTSTART:20220327T010000
END:DAYLIGHT
BEGIN:STANDARD
TZOFFSETFROM:+0200
TZOFFSETTO:+0100
TZNAME:CET
DTSTART:20221030T010000
END:STANDARD
END:VTIMEZONE
BEGIN:VEVENT
DTSTART;VALUE=DATE:20220927
DTEND;VALUE=DATE:20220928
DTSTAMP:20260420T192052
CREATED:20220906T101128Z
LAST-MODIFIED:20220908T172316Z
UID:2043-1664236800-1664323199@burnotrecole.be
SUMMARY:Congé FWB
DESCRIPTION:
URL:http://burnotrecole.be/event/conge-fwb/
END:VEVENT
END:VCALENDAR